BEGIN:VCALENDAR
METHOD:PUBLISH
X-WR-TIMEZONE:US/Eastern
CALSCALE:GREGORIAN
X-WR-CALNAME:V Girls Softball
SUMMARY:V Girls Softball
VERSION:2.0
X-APPLE-CALENDAR-COLOR:#EA7125
PRODID:-//McDonogh School//NONSGML DASH//EN
BEGIN:VEVENT
DTSTART:20260324T161500
SUMMARY:V Girls Softball vs. Maryvale Preparatory School
LOCATION:Home
END:VEVENT
BEGIN:VEVENT
DTSTART:20260326T161500
SUMMARY:V Girls Softball vs. Archbishop Spalding
LOCATION:Home
END:VEVENT
BEGIN:VEVENT
DTSTART:20260330T161500
SUMMARY:V Girls Softball vs. St. Paul's School for Girls
LOCATION:Home
END:VEVENT
BEGIN:VEVENT
DTSTART:20260410T161500
SUMMARY:V Girls Softball vs. Roland Park Country School
LOCATION:Home
END:VEVENT
BEGIN:VEVENT
DTSTART:20260413T163000
SUMMARY:V Girls Softball vs. Towson High School
LOCATION:Home
END:VEVENT
BEGIN:VEVENT
DTSTART:20260414T161500
SUMMARY:V Girls Softball vs. Mount de Sales Academy
LOCATION:Home
END:VEVENT
BEGIN:VEVENT
DTSTART:20260416T161500
SUMMARY:V Girls Softball vs. John Carroll School
LOCATION:Home
END:VEVENT
BEGIN:VEVENT
DTSTART:20260428T161500
SUMMARY:V Girls Softball vs. Notre Dame Prep
LOCATION:Home
END:VEVENT
BEGIN:VEVENT
DTSTART:20260423T150000
SUMMARY:V Girls Softball vs. The Catholic High School of Baltimore
LOCATION:Home
END:VEVENT
BEGIN:VEVENT
DTSTART:20260423T170000
SUMMARY:V Girls Softball vs. The Catholic High School of Baltimore
LOCATION:Home
END:VEVENT
BEGIN:VEVENT
DTSTART:20260331T160000
SUMMARY:V Girls Softball vs. John Carroll School
LOCATION:Away
END:VEVENT
BEGIN:VEVENT
DTSTART:20260409T160000
SUMMARY:V Girls Softball vs. Notre Dame Prep
LOCATION:Away
END:VEVENT
BEGIN:VEVENT
DTSTART:20260420T163000
SUMMARY:V Girls Softball vs. Century High School
LOCATION:Away
END:VEVENT
BEGIN:VEVENT
DTSTART:20260421T163000
SUMMARY:V Girls Softball vs. Archbishop Spalding
LOCATION:Away
END:VEVENT
BEGIN:VEVENT
DTSTART:20260430T160000
SUMMARY:V Girls Softball vs. Mount de Sales Academy
LOCATION:Away
END:VEVENT
BEGIN:VEVENT
DTSTART:20260501T163000
SUMMARY:V Girls Softball vs. South Carroll HS
LOCATION:Away
END:VEVENT
BEGIN:VEVENT
DTSTART:20260505T160000
SUMMARY:V Girls Softball vs. IAAM Playoffs / Quarter-Finals
LOCATION:Away
END:VEVENT
BEGIN:VEVENT
DTSTART:20260507T160000
SUMMARY:V Girls Softball vs. IAAM Playoffs / Semi-Finals
LOCATION:Away
END:VEVENT
BEGIN:VEVENT
DTSTART:20260323T163000
SUMMARY:V Girls Softball vs. Hereford High School
LOCATION:Away
END:VEVENT
BEGIN:VEVENT
DTSTART:20260512T000000
SUMMARY:V Girls Softball vs. IAAM Championship
LOCATION:Bachman Sports Complex
END:VEVENT
BEGIN:VEVENT
DTSTART:20260407T161500
SUMMARY:V Girls Softball vs. The Catholic High School of Baltimore
LOCATION:Home
END:VEVENT
BEGIN:VEVENT
DTSTART:20260312T160000
SUMMARY:V Girls Softball vs. Hereford High School
LOCATION:Away
END:VEVENT
BEGIN:VEVENT
DTSTART:20260309T161500
SUMMARY:V Girls Softball vs. St. Mary Ryken
LOCATION:Home
END:VEVENT
BEGIN:VEVENT
DTSTART:20260427T161500
SUMMARY:V Girls Softball vs. The Catholic High School of Baltimore
LOCATION:Home
END:VEVENT
END:VCALENDAR