BEGIN:VCALENDAR
METHOD:PUBLISH
X-WR-TIMEZONE:US/Eastern
CALSCALE:GREGORIAN
X-WR-CALNAME:MS Girls Softball
SUMMARY:MS Girls Softball
VERSION:2.0
X-APPLE-CALENDAR-COLOR:#EA7125
PRODID:-//McDonogh School//NONSGML DASH//EN
BEGIN:VEVENT
DTSTART:20260409T154500
SUMMARY:MS Girls Softball vs. Bryn Mawr School
LOCATION:Home
END:VEVENT
BEGIN:VEVENT
DTSTART:20260430T160000
SUMMARY:MS Girls Softball vs. Dumbarton Middle School
LOCATION:Home
END:VEVENT
BEGIN:VEVENT
DTSTART:20260504T154500
SUMMARY:MS Girls Softball vs. Hereford Middle School
LOCATION:Home
END:VEVENT
BEGIN:VEVENT
DTSTART:20260416T160000
SUMMARY:MS Girls Softball vs. Ridgely MS
LOCATION:Away
END:VEVENT
BEGIN:VEVENT
DTSTART:20260423T163000
SUMMARY:MS Girls Softball vs. Hereford Middle School
LOCATION:Away
END:VEVENT
BEGIN:VEVENT
DTSTART:20260421T160000
SUMMARY:MS Girls Softball vs. Beth Tfiloh School
LOCATION:Baltimore Hebrew School
END:VEVENT
BEGIN:VEVENT
DTSTART:20260506T154500
SUMMARY:MS Girls Softball vs. Our Lady of Mt. Carmel
LOCATION:Renaissance Park
END:VEVENT
BEGIN:VEVENT
DTSTART:20260326T153000
SUMMARY:MS Girls Softball vs. Maryvale Preparatory School
LOCATION:Home
END:VEVENT
BEGIN:VEVENT
DTSTART:20260427T153000
SUMMARY:MS Girls Softball vs. Chapelgate Christian Academy
LOCATION:Home
END:VEVENT
BEGIN:VEVENT
DTSTART:20260414T160000
SUMMARY:MS Girls Softball vs. Friends School of Baltimore
LOCATION:Away
END:VEVENT
END:VCALENDAR