BEGIN:VCALENDAR
METHOD:PUBLISH
X-WR-TIMEZONE:US/Eastern
CALSCALE:GREGORIAN
X-WR-CALNAME:V Girls Golf
SUMMARY:V Girls Golf
VERSION:2.0
X-APPLE-CALENDAR-COLOR:#EA7125
PRODID:-//McDonogh School//NONSGML DASH//EN
BEGIN:VEVENT
DTSTART:20260430T153000
SUMMARY:V Girls Golf vs. St. Paul's School for Girls
LOCATION:Hayfields Country CLub
END:VEVENT
BEGIN:VEVENT
DTSTART:20260413T153000
SUMMARY:V Girls Golf vs. Mount de Sales Academy
LOCATION:Rolling Road Golf Club
END:VEVENT
BEGIN:VEVENT
DTSTART:20260407T153000
SUMMARY:V Girls Golf vs. Roland Park Country School
LOCATION:Baltimore Country Club
END:VEVENT
BEGIN:VEVENT
DTSTART:20260504T153000
SUMMARY:V Girls Golf vs. Roland Park Country School
LOCATION:Baltimore Country Club
END:VEVENT
BEGIN:VEVENT
DTSTART:20260324T150000
SUMMARY:V Girls Golf vs. Maryvale Preparatory School
LOCATION:Woodholme Country Club
END:VEVENT
BEGIN:VEVENT
DTSTART:20260331T150000
SUMMARY:V Girls Golf vs. Bryn Mawr School
LOCATION:Woodholme Country Club
END:VEVENT
BEGIN:VEVENT
DTSTART:20260407T153000
SUMMARY:V Girls Golf vs. Bryn Mawr School
LOCATION:Woodholme Country Club
END:VEVENT
BEGIN:VEVENT
DTSTART:20260421T153000
SUMMARY:V Girls Golf vs. John Carroll School
LOCATION:Woodholme Country Club
END:VEVENT
BEGIN:VEVENT
DTSTART:20260311T150000
SUMMARY:V Girls Golf vs. Garrison Forest School
LOCATION:Woodholme Country Club
END:VEVENT
BEGIN:VEVENT
DTSTART:20260507T150000
SUMMARY:V Girls Golf vs. Archbishop Spalding
LOCATION:Woodholme Country Club
END:VEVENT
BEGIN:VEVENT
DTSTART:20260511T000000
SUMMARY:V Girls Golf vs. IAAM Tournament
LOCATION:Fox Hollow Golf Course
END:VEVENT
BEGIN:VEVENT
DTSTART:20260512T000000
SUMMARY:V Girls Golf vs. IAAM Tournament
LOCATION:Fox Hollow Golf Course
END:VEVENT
BEGIN:VEVENT
DTSTART:20260513T000000
SUMMARY:V Girls Golf vs. IAAM Tournament
LOCATION:Fox Hollow Golf Course
END:VEVENT
BEGIN:VEVENT
DTSTART:20260327T153000
SUMMARY:V Girls Golf vs. Playday
LOCATION:The Preserve at Eisenhower Golf Course
END:VEVENT
END:VCALENDAR