BEGIN:VCALENDAR
METHOD:PUBLISH
X-WR-TIMEZONE:US/Eastern
CALSCALE:GREGORIAN
X-WR-CALNAME:JV Girls Golf
SUMMARY:JV Girls Golf
VERSION:2.0
X-APPLE-CALENDAR-COLOR:#EA7125
PRODID:-//McDonogh School//NONSGML DASH//EN
BEGIN:VEVENT
DTSTART:20260427T150000
SUMMARY:JV Girls Golf vs. Roland Park Country School
LOCATION:Woodholme Country Club
END:VEVENT
END:VCALENDAR