BEGIN:VCALENDAR
METHOD:PUBLISH
X-WR-TIMEZONE:US/Eastern
CALSCALE:GREGORIAN
X-WR-CALNAME:V Boys Golf
SUMMARY:V Boys Golf
VERSION:2.0
X-APPLE-CALENDAR-COLOR:#EA7125
PRODID:-//McDonogh School//NONSGML DASH//EN
BEGIN:VEVENT
DTSTART:20260511T151500
SUMMARY:V Boys Golf vs. MIAA Team / Quarter-Finals
LOCATION:TBA
END:VEVENT
BEGIN:VEVENT
DTSTART:20260513T151500
SUMMARY:V Boys Golf vs. MIAA Team / Semi-Finals
LOCATION:TBA
END:VEVENT
BEGIN:VEVENT
DTSTART:20260516T130000
SUMMARY:V Boys Golf vs. MIAA Team Championships
LOCATION:Caves Valley 
END:VEVENT
BEGIN:VEVENT
DTSTART:20260323T151500
SUMMARY:V Boys Golf vs. Calvert Hall College HS
LOCATION:Country Club of Maryland
END:VEVENT
BEGIN:VEVENT
DTSTART:20260414T151500
SUMMARY:V Boys Golf vs. Loyola Blakefield
LOCATION:Hunt Valley Country Club
END:VEVENT
BEGIN:VEVENT
DTSTART:20260401T151500
SUMMARY:V Boys Golf vs. Mt. St. Joseph HS
LOCATION:Rolling Road Golf Club
END:VEVENT
BEGIN:VEVENT
DTSTART:20260422T150000
SUMMARY:V Boys Golf vs. St. Paul's School
LOCATION:Baltimore Country Club
END:VEVENT
BEGIN:VEVENT
DTSTART:20260305T150000
SUMMARY:V Boys Golf vs. Severn School
LOCATION:Woodholme Country Club
END:VEVENT
BEGIN:VEVENT
DTSTART:20260310T150000
SUMMARY:V Boys Golf vs. Archbishop Curley HS
LOCATION:Woodholme Country Club
END:VEVENT
BEGIN:VEVENT
DTSTART:20260325T151500
SUMMARY:V Boys Golf vs. St. Paul's School
LOCATION:Woodholme Country Club
END:VEVENT
BEGIN:VEVENT
DTSTART:20260330T151500
SUMMARY:V Boys Golf vs. Gilman School
LOCATION:Woodholme Country Club
END:VEVENT
BEGIN:VEVENT
DTSTART:20260420T151500
SUMMARY:V Boys Golf vs. Boys' Latin School
LOCATION:Woodholme Country Club
END:VEVENT
BEGIN:VEVENT
DTSTART:20260423T151500
SUMMARY:V Boys Golf vs. Mt. St. Joseph HS
LOCATION:Woodholme Country Club
END:VEVENT
BEGIN:VEVENT
DTSTART:20260429T151500
SUMMARY:V Boys Golf vs. Archbishop Spalding
LOCATION:Woodholme Country Club
END:VEVENT
BEGIN:VEVENT
DTSTART:20260504T160000
SUMMARY:V Boys Golf vs. Calvert Hall College HS
LOCATION:Woodholme Country Club
END:VEVENT
BEGIN:VEVENT
DTSTART:20260506T151500
SUMMARY:V Boys Golf vs. Loyola Blakefield
LOCATION:Woodholme Country Club
END:VEVENT
BEGIN:VEVENT
DTSTART:20260406T154500
SUMMARY:V Boys Golf vs. Landon School
LOCATION:Woodholme Country Club
END:VEVENT
BEGIN:VEVENT
DTSTART:20260408T151500
SUMMARY:V Boys Golf vs. Boys' Latin School
LOCATION:Suburban Country Club
END:VEVENT
BEGIN:VEVENT
DTSTART:20260415T151500
SUMMARY:V Boys Golf vs. Archbishop Spalding
LOCATION:Chartwell Golf and Country Club
END:VEVENT
BEGIN:VEVENT
DTSTART:20260427T150000
SUMMARY:V Boys Golf vs. Gilman School
LOCATION:Elkridge Club
END:VEVENT
BEGIN:VEVENT
DTSTART:20260519T110000
SUMMARY:V Boys Golf vs. MIAA Individuals - Tournament Finals
LOCATION:Bulle Rock 
END:VEVENT
BEGIN:VEVENT
DTSTART:20260518T090000
SUMMARY:V Boys Golf vs. MIAA Individual Tournament - 1st Round
LOCATION:Worthington Manor Golf Club
END:VEVENT
END:VCALENDAR