BEGIN:VCALENDAR
METHOD:PUBLISH
X-WR-TIMEZONE:US/Eastern
CALSCALE:GREGORIAN
X-WR-CALNAME:JV Boys Golf
SUMMARY:JV Boys Golf
VERSION:2.0
X-APPLE-CALENDAR-COLOR:#EA7125
PRODID:-//McDonogh School//NONSGML DASH//EN
BEGIN:VEVENT
DTSTART:20260304T151500
SUMMARY:JV Boys Golf vs. Gilman School
LOCATION:Mount Pleasant Golf Course
END:VEVENT
BEGIN:VEVENT
DTSTART:20260325T160000
SUMMARY:JV Boys Golf vs. Mt. St. Joseph HS
LOCATION:Diamond Ridge Golf Course
END:VEVENT
BEGIN:VEVENT
DTSTART:20260330T153000
SUMMARY:JV Boys Golf vs. Gilman School
LOCATION:Diamond Ridge Golf Course
END:VEVENT
BEGIN:VEVENT
DTSTART:20260413T151500
SUMMARY:JV Boys Golf vs. Mt. St. Joseph HS
LOCATION:Diamond Ridge Golf Course
END:VEVENT
BEGIN:VEVENT
DTSTART:20260421T151500
SUMMARY:JV Boys Golf vs. Boys' Latin School
LOCATION:Diamond Ridge Golf Course
END:VEVENT
BEGIN:VEVENT
DTSTART:20260427T151500
SUMMARY:JV Boys Golf vs. Archbishop Spalding
LOCATION:Diamond Ridge Golf Course
END:VEVENT
BEGIN:VEVENT
DTSTART:20260310T150000
SUMMARY:JV Boys Golf vs. St. Paul's School
LOCATION:Fox Hollow Golf Course
END:VEVENT
BEGIN:VEVENT
DTSTART:20260408T154500
SUMMARY:JV Boys Golf vs. Severn School
LOCATION:Compass Pointe Golf Course
END:VEVENT
BEGIN:VEVENT
DTSTART:20260409T151500
SUMMARY:JV Boys Golf vs. Boys' Latin School
LOCATION:Suburban Country Club
END:VEVENT
END:VCALENDAR