BEGIN:VCALENDAR
METHOD:PUBLISH
X-WR-TIMEZONE:US/Eastern
CALSCALE:GREGORIAN
X-WR-CALNAME:V Girls Track
SUMMARY:V Girls Track
VERSION:2.0
X-APPLE-CALENDAR-COLOR:#EA7125
PRODID:-//McDonogh School//NONSGML DASH//EN
BEGIN:VEVENT
DTSTART:20260409T151500
SUMMARY:V Girls Track vs. Bryn Mawr School
LOCATION:Home
END:VEVENT
BEGIN:VEVENT
DTSTART:20260409T151500
SUMMARY:V Girls Track vs. Garrison Forest School
LOCATION:Home
END:VEVENT
BEGIN:VEVENT
DTSTART:20260409T151500
SUMMARY:V Girls Track vs. The Catholic High School of Baltimore
LOCATION:Home
END:VEVENT
BEGIN:VEVENT
DTSTART:20260409T151500
SUMMARY:V Girls Track vs. Roland Park Country School
LOCATION:Home
END:VEVENT
BEGIN:VEVENT
DTSTART:20260415T151500
SUMMARY:V Girls Track vs. Maryvale Preparatory School
LOCATION:Home
END:VEVENT
BEGIN:VEVENT
DTSTART:20260415T151500
SUMMARY:V Girls Track vs. St. Paul's School for Girls
LOCATION:Home
END:VEVENT
BEGIN:VEVENT
DTSTART:20260415T151500
SUMMARY:V Girls Track vs. Bryn Mawr School
LOCATION:Home
END:VEVENT
BEGIN:VEVENT
DTSTART:20260415T151500
SUMMARY:V Girls Track vs. Garrison Forest School
LOCATION:Home
END:VEVENT
BEGIN:VEVENT
DTSTART:20260429T151500
SUMMARY:V Girls Track vs. Bryn Mawr School
LOCATION:Home
END:VEVENT
BEGIN:VEVENT
DTSTART:20260429T151500
SUMMARY:V Girls Track vs. Garrison Forest School
LOCATION:Home
END:VEVENT
BEGIN:VEVENT
DTSTART:20260429T151500
SUMMARY:V Girls Track vs. Notre Dame Prep
LOCATION:Home
END:VEVENT
BEGIN:VEVENT
DTSTART:20260429T151500
SUMMARY:V Girls Track vs. Mercy High School
LOCATION:Home
END:VEVENT
BEGIN:VEVENT
DTSTART:20260429T151500
SUMMARY:V Girls Track vs. The Catholic High School of Baltimore
LOCATION:Home
END:VEVENT
BEGIN:VEVENT
DTSTART:20260429T151500
SUMMARY:V Girls Track vs. Roland Park Country School
LOCATION:Home
END:VEVENT
BEGIN:VEVENT
DTSTART:20260506T151500
SUMMARY:V Girls Track vs. IAAM Championships-Day One
LOCATION:Home
END:VEVENT
BEGIN:VEVENT
DTSTART:20260328T100000
SUMMARY:V Girls Track vs. IAAM/MIAA Relays
LOCATION:Gilman School
END:VEVENT
BEGIN:VEVENT
DTSTART:20260420T151500
SUMMARY:V Girls Track vs. IAAM Group Meet
LOCATION:Archbishop Spalding
END:VEVENT
BEGIN:VEVENT
DTSTART:20260509T090000
SUMMARY:V Girls Track vs. IAAM Championships
LOCATION:Archbishop Spalding
END:VEVENT
BEGIN:VEVENT
DTSTART:20260416T120000
SUMMARY:V Girls Track vs. Under Armour Black & Blue Relays
LOCATION:Howard Community College
END:VEVENT
BEGIN:VEVENT
DTSTART:20260501T153000
SUMMARY:V Girls Track vs. Maverick Madness Track Meet
LOCATION:Manchester Valley High School
END:VEVENT
BEGIN:VEVENT
DTSTART:20260418T090000
SUMMARY:V Girls Track vs. Annual Woodbury Relays
LOCATION:Woodbury High School
END:VEVENT
END:VCALENDAR