BEGIN:VCALENDAR
METHOD:PUBLISH
X-WR-TIMEZONE:US/Eastern
CALSCALE:GREGORIAN
X-WR-CALNAME:V Girls Lacrosse
SUMMARY:V Girls Lacrosse
VERSION:2.0
X-APPLE-CALENDAR-COLOR:#EA7125
PRODID:-//McDonogh School//NONSGML DASH//EN
BEGIN:VEVENT
DTSTART:20260325T163000
SUMMARY:V Girls Lacrosse vs. Maryvale Preparatory School
LOCATION:Home
END:VEVENT
BEGIN:VEVENT
DTSTART:20260408T163000
SUMMARY:V Girls Lacrosse vs. Severn School
LOCATION:Home
END:VEVENT
BEGIN:VEVENT
DTSTART:20260410T160000
SUMMARY:V Girls Lacrosse vs. Mercy High School
LOCATION:Home
END:VEVENT
BEGIN:VEVENT
DTSTART:20260415T183000
SUMMARY:V Girls Lacrosse vs. Archbishop Spalding
LOCATION:Home
END:VEVENT
BEGIN:VEVENT
DTSTART:20260417T163000
SUMMARY:V Girls Lacrosse vs. St. Mary's High School
LOCATION:Home
END:VEVENT
BEGIN:VEVENT
DTSTART:20260424T163000
SUMMARY:V Girls Lacrosse vs. Glenelg Country School
LOCATION:Home
END:VEVENT
BEGIN:VEVENT
DTSTART:20260307T110000
SUMMARY:V Girls Lacrosse vs. Stone Ridge School of the Sacred Heart
LOCATION:Home
END:VEVENT
BEGIN:VEVENT
DTSTART:20260330T163000
SUMMARY:V Girls Lacrosse vs. Notre Dame de Namur 
LOCATION:Home
END:VEVENT
BEGIN:VEVENT
DTSTART:20260311T160000
SUMMARY:V Girls Lacrosse vs. Bryn Mawr School
LOCATION:Away
END:VEVENT
BEGIN:VEVENT
DTSTART:20260327T160000
SUMMARY:V Girls Lacrosse vs. St. Paul's School for Girls
LOCATION:Away
END:VEVENT
BEGIN:VEVENT
DTSTART:20260401T160000
SUMMARY:V Girls Lacrosse vs. Roland Park Country School
LOCATION:Away
END:VEVENT
BEGIN:VEVENT
DTSTART:20260422T160000
SUMMARY:V Girls Lacrosse vs. John Carroll School
LOCATION:Away
END:VEVENT
BEGIN:VEVENT
DTSTART:20260427T160000
SUMMARY:V Girls Lacrosse vs. Notre Dame Prep
LOCATION:Away
END:VEVENT
BEGIN:VEVENT
DTSTART:20260304T154500
SUMMARY:V Girls Lacrosse vs. Mount de Sales Academy
LOCATION:Away
END:VEVENT
BEGIN:VEVENT
DTSTART:20260315T150000
SUMMARY:V Girls Lacrosse vs. IMG Academy
LOCATION:Away
END:VEVENT
BEGIN:VEVENT
DTSTART:20260430T163000
SUMMARY:V Girls Lacrosse vs. IAAM Playoffs / Quarter-Finals
LOCATION:TBA
END:VEVENT
BEGIN:VEVENT
DTSTART:20260505T163000
SUMMARY:V Girls Lacrosse vs. IAAM Playoffs / Semi-Finals
LOCATION:TBA
END:VEVENT
BEGIN:VEVENT
DTSTART:20260317T110000
SUMMARY:V Girls Lacrosse vs. Regis Jesuit High School
LOCATION:TBA
END:VEVENT
BEGIN:VEVENT
DTSTART:20260508T190000
SUMMARY:V Girls Lacrosse vs. IAAM Championship
LOCATION:US Lacrosse
END:VEVENT
BEGIN:VEVENT
DTSTART:20260317T110000
SUMMARY:V Girls Lacrosse vs. Inter-Squad Scrimmage
LOCATION:IMG Academy
END:VEVENT
END:VCALENDAR