BEGIN:VCALENDAR
METHOD:PUBLISH
X-WR-TIMEZONE:US/Eastern
CALSCALE:GREGORIAN
X-WR-CALNAME:MS Girls Lacrosse (B)
SUMMARY:MS Girls Lacrosse (B)
VERSION:2.0
X-APPLE-CALENDAR-COLOR:#EA7125
PRODID:-//McDonogh School//NONSGML DASH//EN
BEGIN:VEVENT
DTSTART:20260427T163000
SUMMARY:MS Girls Lacrosse (B) vs. St. Mary's Elementary School, K-8
LOCATION:Home
END:VEVENT
BEGIN:VEVENT
DTSTART:20260429T163000
SUMMARY:MS Girls Lacrosse (B) vs. Calvert School 
LOCATION:Home
END:VEVENT
BEGIN:VEVENT
DTSTART:20260504T163000
SUMMARY:MS Girls Lacrosse (B) vs. Maryvale Preparatory School
LOCATION:Home
END:VEVENT
BEGIN:VEVENT
DTSTART:20260421T154500
SUMMARY:MS Girls Lacrosse (B) vs. The Park School
LOCATION:Home
END:VEVENT
BEGIN:VEVENT
DTSTART:20260408T153000
SUMMARY:MS Girls Lacrosse (B) vs. St. Paul's School for Girls
LOCATION:Away
END:VEVENT
BEGIN:VEVENT
DTSTART:20260414T164500
SUMMARY:MS Girls Lacrosse (B) vs. Notre Dame Prep
LOCATION:Away
END:VEVENT
BEGIN:VEVENT
DTSTART:20260326T160000
SUMMARY:MS Girls Lacrosse (B) vs. Chapelgate Christian Academy
LOCATION:Away
END:VEVENT
BEGIN:VEVENT
DTSTART:20260506T160000
SUMMARY:MS Girls Lacrosse (B) vs. Cockeysville Middle School
LOCATION:County Home Park
END:VEVENT
BEGIN:VEVENT
DTSTART:20260423T153000
SUMMARY:MS Girls Lacrosse (B) vs. Bryn Mawr School
LOCATION:Home
END:VEVENT
BEGIN:VEVENT
DTSTART:20260421T154500
SUMMARY:MS Girls Lacrosse (B) vs. Roland Park Country School
LOCATION:Away
END:VEVENT
END:VCALENDAR