BEGIN:VCALENDAR
METHOD:PUBLISH
X-WR-TIMEZONE:US/Eastern
CALSCALE:GREGORIAN
X-WR-CALNAME:MS Girls Lacrosse (A)
SUMMARY:MS Girls Lacrosse (A)
VERSION:2.0
X-APPLE-CALENDAR-COLOR:#EA7125
PRODID:-//McDonogh School//NONSGML DASH//EN
BEGIN:VEVENT
DTSTART:20260326T154500
SUMMARY:MS Girls Lacrosse (A) vs. Garrison Forest School
LOCATION:Home
END:VEVENT
BEGIN:VEVENT
DTSTART:20260427T153000
SUMMARY:MS Girls Lacrosse (A) vs. St. Mary's Elementary School, K-8
LOCATION:Home
END:VEVENT
BEGIN:VEVENT
DTSTART:20260420T154500
SUMMARY:MS Girls Lacrosse (A) vs. Immaculate Conception 
LOCATION:Home
END:VEVENT
BEGIN:VEVENT
DTSTART:20260429T153000
SUMMARY:MS Girls Lacrosse (A) vs. Calvert School 
LOCATION:Home
END:VEVENT
BEGIN:VEVENT
DTSTART:20260504T153000
SUMMARY:MS Girls Lacrosse (A) vs. Maryvale Preparatory School
LOCATION:Home
END:VEVENT
BEGIN:VEVENT
DTSTART:20260507T160000
SUMMARY:MS Girls Lacrosse (A) vs. Dumbarton Middle School
LOCATION:Home
END:VEVENT
BEGIN:VEVENT
DTSTART:20260401T153000
SUMMARY:MS Girls Lacrosse (A) vs. Glenelg Country School
LOCATION:Home
END:VEVENT
BEGIN:VEVENT
DTSTART:20260408T153000
SUMMARY:MS Girls Lacrosse (A) vs. St. Paul's School for Girls
LOCATION:Away
END:VEVENT
BEGIN:VEVENT
DTSTART:20260414T154500
SUMMARY:MS Girls Lacrosse (A) vs. Notre Dame Prep
LOCATION:Away
END:VEVENT
BEGIN:VEVENT
DTSTART:20260511T160000
SUMMARY:MS Girls Lacrosse (A) vs. Severn School
LOCATION:Away
END:VEVENT
BEGIN:VEVENT
DTSTART:20260421T154500
SUMMARY:MS Girls Lacrosse (A) vs. Roland Park Country School
LOCATION:Away
END:VEVENT
END:VCALENDAR