BEGIN:VCALENDAR
METHOD:PUBLISH
X-WR-TIMEZONE:US/Eastern
CALSCALE:GREGORIAN
X-WR-CALNAME:JV Girls Lacrosse
SUMMARY:JV Girls Lacrosse
VERSION:2.0
X-APPLE-CALENDAR-COLOR:#EA7125
PRODID:-//McDonogh School//NONSGML DASH//EN
BEGIN:VEVENT
DTSTART:20260325T163000
SUMMARY:JV Girls Lacrosse vs. Maryvale Preparatory School
LOCATION:Home
END:VEVENT
BEGIN:VEVENT
DTSTART:20260408T163000
SUMMARY:JV Girls Lacrosse vs. Severn School
LOCATION:Home
END:VEVENT
BEGIN:VEVENT
DTSTART:20260410T163000
SUMMARY:JV Girls Lacrosse vs. Mercy High School
LOCATION:Home
END:VEVENT
BEGIN:VEVENT
DTSTART:20260415T161500
SUMMARY:JV Girls Lacrosse vs. Archbishop Spalding
LOCATION:Home
END:VEVENT
BEGIN:VEVENT
DTSTART:20260417T163000
SUMMARY:JV Girls Lacrosse vs. St. Mary's High School
LOCATION:Home
END:VEVENT
BEGIN:VEVENT
DTSTART:20260311T173000
SUMMARY:JV Girls Lacrosse vs. Bryn Mawr School
LOCATION:Away
END:VEVENT
BEGIN:VEVENT
DTSTART:20260327T160000
SUMMARY:JV Girls Lacrosse vs. St. Paul's School for Girls
LOCATION:Away
END:VEVENT
BEGIN:VEVENT
DTSTART:20260401T173000
SUMMARY:JV Girls Lacrosse vs. Roland Park Country School
LOCATION:Away
END:VEVENT
BEGIN:VEVENT
DTSTART:20260422T173000
SUMMARY:JV Girls Lacrosse vs. John Carroll School
LOCATION:Away
END:VEVENT
BEGIN:VEVENT
DTSTART:20260427T173000
SUMMARY:JV Girls Lacrosse vs. Notre Dame Prep
LOCATION:Away
END:VEVENT
BEGIN:VEVENT
DTSTART:20260326T154500
SUMMARY:JV Girls Lacrosse vs. Mount de Sales Academy
LOCATION:Away
END:VEVENT
BEGIN:VEVENT
DTSTART:20260303T173000
SUMMARY:JV Girls Lacrosse vs. Mount de Sales Academy
LOCATION:Home
END:VEVENT
BEGIN:VEVENT
DTSTART:20260424T163000
SUMMARY:JV Girls Lacrosse vs. Glenelg Country School
LOCATION:Home
END:VEVENT
END:VCALENDAR