BEGIN:VCALENDAR
METHOD:PUBLISH
X-WR-TIMEZONE:US/Eastern
CALSCALE:GREGORIAN
X-WR-CALNAME:V Boys Track
SUMMARY:V Boys Track
VERSION:2.0
X-APPLE-CALENDAR-COLOR:#EA7125
PRODID:-//McDonogh School//NONSGML DASH//EN
BEGIN:VEVENT
DTSTART:20260407T151500
SUMMARY:V Boys Track vs. Gilman School
LOCATION:Home
END:VEVENT
BEGIN:VEVENT
DTSTART:20260407T151500
SUMMARY:V Boys Track vs. St. Paul's School
LOCATION:Home
END:VEVENT
BEGIN:VEVENT
DTSTART:20260401T151500
SUMMARY:V Boys Track vs. Archbishop Spalding
LOCATION:Away
END:VEVENT
BEGIN:VEVENT
DTSTART:20260414T151500
SUMMARY:V Boys Track vs. Calvert Hall College HS
LOCATION:Away
END:VEVENT
BEGIN:VEVENT
DTSTART:20260421T151500
SUMMARY:V Boys Track vs. Loyola Blakefield
LOCATION:Away
END:VEVENT
BEGIN:VEVENT
DTSTART:20260429T151500
SUMMARY:V Boys Track vs. TBA
LOCATION:Away
END:VEVENT
BEGIN:VEVENT
DTSTART:20260328T100000
SUMMARY:V Boys Track vs. IAAM/MIAA Relays
LOCATION:Gilman School
END:VEVENT
BEGIN:VEVENT
DTSTART:20260421T151500
SUMMARY:V Boys Track vs. Mt. St. Joseph HS
LOCATION:Loyola Blakefield
END:VEVENT
BEGIN:VEVENT
DTSTART:20260421T151500
SUMMARY:V Boys Track vs. Archbishop Spalding
LOCATION:Loyola Blakefield
END:VEVENT
BEGIN:VEVENT
DTSTART:20260414T151500
SUMMARY:V Boys Track vs. Gilman School
LOCATION:Calvert Hall College HS
END:VEVENT
BEGIN:VEVENT
DTSTART:20260414T151500
SUMMARY:V Boys Track vs. Archbishop Spalding
LOCATION:Calvert Hall College HS
END:VEVENT
BEGIN:VEVENT
DTSTART:20260507T161500
SUMMARY:V Boys Track vs. MIAA Championships-Day One
LOCATION:Calvert Hall College HS
END:VEVENT
BEGIN:VEVENT
DTSTART:20260401T151500
SUMMARY:V Boys Track vs. Archbishop Curley HS
LOCATION:Archbishop Spalding
END:VEVENT
BEGIN:VEVENT
DTSTART:20260401T151500
SUMMARY:V Boys Track vs. St. Paul's School
LOCATION:Archbishop Spalding
END:VEVENT
BEGIN:VEVENT
DTSTART:20260509T090000
SUMMARY:V Boys Track vs. MIAA Championships
LOCATION:Archbishop Spalding
END:VEVENT
BEGIN:VEVENT
DTSTART:20260416T120000
SUMMARY:V Boys Track vs. Under Armour Black & Blue Relays
LOCATION:Howard Community College
END:VEVENT
BEGIN:VEVENT
DTSTART:20260501T153000
SUMMARY:V Boys Track vs. Maverick Madness Track Meet
LOCATION:Manchester Valley High School
END:VEVENT
BEGIN:VEVENT
DTSTART:20260418T090000
SUMMARY:V Boys Track vs. Annual Woodbury Relays
LOCATION:Woodbury High School
END:VEVENT
END:VCALENDAR