BEGIN:VCALENDAR
METHOD:PUBLISH
X-WR-TIMEZONE:US/Eastern
CALSCALE:GREGORIAN
X-WR-CALNAME:V Boys Tennis
SUMMARY:V Boys Tennis
VERSION:2.0
X-APPLE-CALENDAR-COLOR:#EA7125
PRODID:-//McDonogh School//NONSGML DASH//EN
BEGIN:VEVENT
DTSTART:20260331T161500
SUMMARY:V Boys Tennis vs. Loyola Blakefield
LOCATION:Home
END:VEVENT
BEGIN:VEVENT
DTSTART:20260414T161500
SUMMARY:V Boys Tennis vs. St. Paul's School
LOCATION:Home
END:VEVENT
BEGIN:VEVENT
DTSTART:20260423T161500
SUMMARY:V Boys Tennis vs. The Park School
LOCATION:Home
END:VEVENT
BEGIN:VEVENT
DTSTART:20260511T140000
SUMMARY:V Boys Tennis vs. MIAA Individual Championships
LOCATION:Home
END:VEVENT
BEGIN:VEVENT
DTSTART:20260512T140000
SUMMARY:V Boys Tennis vs. MIAA Individual Championships
LOCATION:Home
END:VEVENT
BEGIN:VEVENT
DTSTART:20260513T140000
SUMMARY:V Boys Tennis vs. MIAA Individual Championships
LOCATION:Home
END:VEVENT
BEGIN:VEVENT
DTSTART:20260514T140000
SUMMARY:V Boys Tennis vs. MIAA Individual Championships
LOCATION:Home
END:VEVENT
BEGIN:VEVENT
DTSTART:20260515T140000
SUMMARY:V Boys Tennis vs. MIAA Individual Championships
LOCATION:Home
END:VEVENT
BEGIN:VEVENT
DTSTART:20260401T161500
SUMMARY:V Boys Tennis vs. Boys' Latin School
LOCATION:Away
END:VEVENT
BEGIN:VEVENT
DTSTART:20260416T154500
SUMMARY:V Boys Tennis vs. Calvert Hall College HS
LOCATION:Away
END:VEVENT
BEGIN:VEVENT
DTSTART:20260421T160000
SUMMARY:V Boys Tennis vs. Gilman School
LOCATION:Away
END:VEVENT
BEGIN:VEVENT
DTSTART:20260409T163000
SUMMARY:V Boys Tennis vs. Mercersburg Academy 
LOCATION:Away
END:VEVENT
BEGIN:VEVENT
DTSTART:20260505T160000
SUMMARY:V Boys Tennis vs. MIAA Team / Semi-Finals
LOCATION:TBA
END:VEVENT
BEGIN:VEVENT
DTSTART:20260507T160000
SUMMARY:V Boys Tennis vs. MIAA Team Championships
LOCATION:TBA
END:VEVENT
END:VCALENDAR