BEGIN:VCALENDAR
METHOD:PUBLISH
X-WR-TIMEZONE:US/Eastern
CALSCALE:GREGORIAN
X-WR-CALNAME:MS Boys Tennis
SUMMARY:MS Boys Tennis
VERSION:2.0
X-APPLE-CALENDAR-COLOR:#EA7125
PRODID:-//McDonogh School//NONSGML DASH//EN
BEGIN:VEVENT
DTSTART:20260408T153000
SUMMARY:MS Boys Tennis vs. St. Paul's School
LOCATION:Home
END:VEVENT
BEGIN:VEVENT
DTSTART:20260415T153000
SUMMARY:MS Boys Tennis vs. Severn School
LOCATION:Home
END:VEVENT
BEGIN:VEVENT
DTSTART:20260420T153000
SUMMARY:MS Boys Tennis vs. Calvert School 
LOCATION:Home
END:VEVENT
BEGIN:VEVENT
DTSTART:20260428T153000
SUMMARY:MS Boys Tennis vs. Gilman School
LOCATION:Home
END:VEVENT
BEGIN:VEVENT
DTSTART:20260401T153000
SUMMARY:MS Boys Tennis vs. St. Paul's School
LOCATION:Away
END:VEVENT
BEGIN:VEVENT
DTSTART:20260330T153000
SUMMARY:MS Boys Tennis vs. Boys' Latin School
LOCATION:Away
END:VEVENT
BEGIN:VEVENT
DTSTART:20260413T153000
SUMMARY:MS Boys Tennis vs. Friends School of Baltimore
LOCATION:Away
END:VEVENT
BEGIN:VEVENT
DTSTART:20260429T153000
SUMMARY:MS Boys Tennis vs. Loyola Blakefield
LOCATION:Away
END:VEVENT
BEGIN:VEVENT
DTSTART:20260422T153000
SUMMARY:MS Boys Tennis vs. The Park School
LOCATION:St. Timothy's School
END:VEVENT
END:VCALENDAR