BEGIN:VCALENDAR
METHOD:PUBLISH
X-WR-TIMEZONE:US/Eastern
CALSCALE:GREGORIAN
X-WR-CALNAME:JV Boys Tennis
SUMMARY:JV Boys Tennis
VERSION:2.0
X-APPLE-CALENDAR-COLOR:#EA7125
PRODID:-//McDonogh School//NONSGML DASH//EN
BEGIN:VEVENT
DTSTART:20260401T161500
SUMMARY:JV Boys Tennis vs. Boys' Latin School
LOCATION:Home
END:VEVENT
BEGIN:VEVENT
DTSTART:20260416T161500
SUMMARY:JV Boys Tennis vs. Calvert Hall College HS
LOCATION:Home
END:VEVENT
BEGIN:VEVENT
DTSTART:20260421T161500
SUMMARY:JV Boys Tennis vs. Gilman School
LOCATION:Home
END:VEVENT
BEGIN:VEVENT
DTSTART:20260331T154500
SUMMARY:JV Boys Tennis vs. Loyola Blakefield
LOCATION:Away
END:VEVENT
BEGIN:VEVENT
DTSTART:20260414T161500
SUMMARY:JV Boys Tennis vs. St. Paul's School
LOCATION:Away
END:VEVENT
BEGIN:VEVENT
DTSTART:20260409T163000
SUMMARY:JV Boys Tennis vs. Mercersburg Academy 
LOCATION:Away
END:VEVENT
BEGIN:VEVENT
DTSTART:20260504T160000
SUMMARY:JV Boys Tennis vs. MIAA Team / Semi-Finals
LOCATION:TBA
END:VEVENT
BEGIN:VEVENT
DTSTART:20260506T160000
SUMMARY:JV Boys Tennis vs. MIAA Finals
LOCATION:TBA
END:VEVENT
BEGIN:VEVENT
DTSTART:20260423T160000
SUMMARY:JV Boys Tennis vs. The Park School
LOCATION:St. Timothy's School
END:VEVENT
END:VCALENDAR