BEGIN:VCALENDAR
METHOD:PUBLISH
X-WR-TIMEZONE:US/Eastern
CALSCALE:GREGORIAN
X-WR-CALNAME:V Boys Lacrosse
SUMMARY:V Boys Lacrosse
VERSION:2.0
X-APPLE-CALENDAR-COLOR:#EA7125
PRODID:-//McDonogh School//NONSGML DASH//EN
BEGIN:VEVENT
DTSTART:20260331T163000
SUMMARY:V Boys Lacrosse vs. Archbishop Spalding
LOCATION:Home
END:VEVENT
BEGIN:VEVENT
DTSTART:20260414T163000
SUMMARY:V Boys Lacrosse vs. Loyola Blakefield
LOCATION:Home
END:VEVENT
BEGIN:VEVENT
DTSTART:20260421T163000
SUMMARY:V Boys Lacrosse vs. St. Paul's School
LOCATION:Home
END:VEVENT
BEGIN:VEVENT
DTSTART:20260428T163000
SUMMARY:V Boys Lacrosse vs. St. Mary's High School
LOCATION:Home
END:VEVENT
BEGIN:VEVENT
DTSTART:20260505T163000
SUMMARY:V Boys Lacrosse vs. Gilman School
LOCATION:Home
END:VEVENT
BEGIN:VEVENT
DTSTART:20260227T163000
SUMMARY:V Boys Lacrosse vs. Bullis School
LOCATION:Home
END:VEVENT
BEGIN:VEVENT
DTSTART:20260304T160000
SUMMARY:V Boys Lacrosse vs. IMG Academy
LOCATION:Home
END:VEVENT
BEGIN:VEVENT
DTSTART:20260327T161500
SUMMARY:V Boys Lacrosse vs. Boys' Latin School
LOCATION:Away
END:VEVENT
BEGIN:VEVENT
DTSTART:20260407T160000
SUMMARY:V Boys Lacrosse vs. John Carroll School
LOCATION:Away
END:VEVENT
BEGIN:VEVENT
DTSTART:20260410T190000
SUMMARY:V Boys Lacrosse vs. Calvert Hall College HS
LOCATION:Away
END:VEVENT
BEGIN:VEVENT
DTSTART:20260417T160000
SUMMARY:V Boys Lacrosse vs. Mt. St. Joseph HS
LOCATION:Away
END:VEVENT
BEGIN:VEVENT
DTSTART:20260501T161500
SUMMARY:V Boys Lacrosse vs. Severn School
LOCATION:Away
END:VEVENT
BEGIN:VEVENT
DTSTART:20260508T160000
SUMMARY:V Boys Lacrosse vs. MIAA Playoffs / Quarter Finals
LOCATION:Away
END:VEVENT
BEGIN:VEVENT
DTSTART:20260225T160000
SUMMARY:V Boys Lacrosse vs. Landon School
LOCATION:Away
END:VEVENT
BEGIN:VEVENT
DTSTART:20260310T160000
SUMMARY:V Boys Lacrosse vs. Haverford School
LOCATION:Away
END:VEVENT
BEGIN:VEVENT
DTSTART:20260313T163000
SUMMARY:V Boys Lacrosse vs. Gonzaga College High School
LOCATION:Away
END:VEVENT
BEGIN:VEVENT
DTSTART:20260320T180000
SUMMARY:V Boys Lacrosse vs. Lake Norman High School
LOCATION:Away
END:VEVENT
BEGIN:VEVENT
DTSTART:20260322T120000
SUMMARY:V Boys Lacrosse vs. Durham Academy
LOCATION:Away
END:VEVENT
BEGIN:VEVENT
DTSTART:20260515T193000
SUMMARY:V Boys Lacrosse vs. MIAA Championship
LOCATION:Stevenson University, Owings Mills
END:VEVENT
BEGIN:VEVENT
DTSTART:20260512T170000
SUMMARY:V Boys Lacrosse vs. MIAA Playoffs / Semi-Finals
LOCATION:Navy-Marine Corps Stadium
END:VEVENT
END:VCALENDAR