BEGIN:VCALENDAR
METHOD:PUBLISH
X-WR-TIMEZONE:US/Eastern
CALSCALE:GREGORIAN
X-WR-CALNAME:MS Boys Lacrosse 
SUMMARY:MS Boys Lacrosse 
VERSION:2.0
X-APPLE-CALENDAR-COLOR:#EA7125
PRODID:-//McDonogh School//NONSGML DASH//EN
BEGIN:VEVENT
DTSTART:20260401T153000
SUMMARY:MS Boys Lacrosse  vs. Boys' Latin School
LOCATION:Home
END:VEVENT
BEGIN:VEVENT
DTSTART:20260408T153000
SUMMARY:MS Boys Lacrosse  vs. St. Paul's School
LOCATION:Home
END:VEVENT
BEGIN:VEVENT
DTSTART:20260413T160000
SUMMARY:MS Boys Lacrosse  vs. Dumbarton Middle School
LOCATION:Home
END:VEVENT
BEGIN:VEVENT
DTSTART:20260415T153000
SUMMARY:MS Boys Lacrosse  vs. Gilman School
LOCATION:Home
END:VEVENT
BEGIN:VEVENT
DTSTART:20260420T153000
SUMMARY:MS Boys Lacrosse  vs. Calvert School 
LOCATION:Home
END:VEVENT
BEGIN:VEVENT
DTSTART:20260427T154500
SUMMARY:MS Boys Lacrosse  vs. Severn School
LOCATION:Home
END:VEVENT
BEGIN:VEVENT
DTSTART:20260330T154500
SUMMARY:MS Boys Lacrosse  vs. Immaculate Conception 
LOCATION:Home
END:VEVENT
BEGIN:VEVENT
DTSTART:20260507T154500
SUMMARY:MS Boys Lacrosse  vs. St. Mary's Elementary School, K-8
LOCATION:Home
END:VEVENT
BEGIN:VEVENT
DTSTART:20260422T153000
SUMMARY:MS Boys Lacrosse  vs. St. Paul's School
LOCATION:Away
END:VEVENT
BEGIN:VEVENT
DTSTART:20260505T150000
SUMMARY:MS Boys Lacrosse  vs. Boys' Latin School
LOCATION:Away
END:VEVENT
BEGIN:VEVENT
DTSTART:20260423T153000
SUMMARY:MS Boys Lacrosse  vs. Loyola Blakefield
LOCATION:Away
END:VEVENT
BEGIN:VEVENT
DTSTART:20260429T153000
SUMMARY:MS Boys Lacrosse  vs. Friends School of Baltimore
LOCATION:Home
END:VEVENT
END:VCALENDAR