BEGIN:VCALENDAR
METHOD:PUBLISH
X-WR-TIMEZONE:US/Eastern
CALSCALE:GREGORIAN
X-WR-CALNAME:V Boys Baseball
SUMMARY:V Boys Baseball
VERSION:2.0
X-APPLE-CALENDAR-COLOR:#EA7125
PRODID:-//McDonogh School//NONSGML DASH//EN
BEGIN:VEVENT
DTSTART:20260310T163000
SUMMARY:V Boys Baseball vs. Fallston HS
LOCATION:Home
END:VEVENT
BEGIN:VEVENT
DTSTART:20260311T154500
SUMMARY:V Boys Baseball vs. Dulaney High School
LOCATION:Home
END:VEVENT
BEGIN:VEVENT
DTSTART:20260318T163000
SUMMARY:V Boys Baseball vs. John Carroll School
LOCATION:Home
END:VEVENT
BEGIN:VEVENT
DTSTART:20260325T163000
SUMMARY:V Boys Baseball vs. Archbishop Spalding
LOCATION:Home
END:VEVENT
BEGIN:VEVENT
DTSTART:20260330T163000
SUMMARY:V Boys Baseball vs. Gilman School
LOCATION:Home
END:VEVENT
BEGIN:VEVENT
DTSTART:20260404T110000
SUMMARY:V Boys Baseball vs. Gilman School
LOCATION:Home
END:VEVENT
BEGIN:VEVENT
DTSTART:20260408T163000
SUMMARY:V Boys Baseball vs. Calvert Hall College HS
LOCATION:Home
END:VEVENT
BEGIN:VEVENT
DTSTART:20260413T163000
SUMMARY:V Boys Baseball vs. Loyola Blakefield
LOCATION:Home
END:VEVENT
BEGIN:VEVENT
DTSTART:20260417T163000
SUMMARY:V Boys Baseball vs. Loyola Blakefield
LOCATION:Home
END:VEVENT
BEGIN:VEVENT
DTSTART:20260422T163000
SUMMARY:V Boys Baseball vs. Mt. St. Joseph HS
LOCATION:Home
END:VEVENT
BEGIN:VEVENT
DTSTART:20260427T163000
SUMMARY:V Boys Baseball vs. Archbishop Curley HS
LOCATION:Home
END:VEVENT
BEGIN:VEVENT
DTSTART:20260501T160000
SUMMARY:V Boys Baseball vs. Archbishop Curley HS
LOCATION:Home
END:VEVENT
BEGIN:VEVENT
DTSTART:20260313T163000
SUMMARY:V Boys Baseball vs. Hereford High School
LOCATION:Home
END:VEVENT
BEGIN:VEVENT
DTSTART:20260314T120000
SUMMARY:V Boys Baseball vs. St. Paul's School
LOCATION:Home
END:VEVENT
BEGIN:VEVENT
DTSTART:20260320T153000
SUMMARY:V Boys Baseball vs. John Carroll School
LOCATION:Away
END:VEVENT
BEGIN:VEVENT
DTSTART:20260323T163000
SUMMARY:V Boys Baseball vs. Archbishop Spalding
LOCATION:Away
END:VEVENT
BEGIN:VEVENT
DTSTART:20260326T163000
SUMMARY:V Boys Baseball vs. Archbishop Spalding
LOCATION:Away
END:VEVENT
BEGIN:VEVENT
DTSTART:20260406T163000
SUMMARY:V Boys Baseball vs. Calvert Hall College HS
LOCATION:Away
END:VEVENT
BEGIN:VEVENT
DTSTART:20260410T180000
SUMMARY:V Boys Baseball vs. Calvert Hall College HS
LOCATION:Away
END:VEVENT
BEGIN:VEVENT
DTSTART:20260415T160000
SUMMARY:V Boys Baseball vs. Loyola Blakefield
LOCATION:Away
END:VEVENT
BEGIN:VEVENT
DTSTART:20260420T160000
SUMMARY:V Boys Baseball vs. Mt. St. Joseph HS
LOCATION:Away
END:VEVENT
BEGIN:VEVENT
DTSTART:20260424T153000
SUMMARY:V Boys Baseball vs. Mt. St. Joseph HS
LOCATION:Away
END:VEVENT
BEGIN:VEVENT
DTSTART:20260429T160000
SUMMARY:V Boys Baseball vs. Archbishop Curley HS
LOCATION:Away
END:VEVENT
BEGIN:VEVENT
DTSTART:20260319T161500
SUMMARY:V Boys Baseball vs. John Carroll School
LOCATION:Away
END:VEVENT
BEGIN:VEVENT
DTSTART:20260331T161500
SUMMARY:V Boys Baseball vs. Gilman School
LOCATION:Away
END:VEVENT
BEGIN:VEVENT
DTSTART:20260504T160000
SUMMARY:V Boys Baseball vs. MIAA Playoffs  / First Round
LOCATION:TBA
END:VEVENT
BEGIN:VEVENT
DTSTART:20260506T160000
SUMMARY:V Boys Baseball vs. MIAA Playoffs Second Round
LOCATION:TBA
END:VEVENT
BEGIN:VEVENT
DTSTART:20260508T160000
SUMMARY:V Boys Baseball vs. MIAA Playoffs Third Round
LOCATION:TBA
END:VEVENT
BEGIN:VEVENT
DTSTART:20260509T160000
SUMMARY:V Boys Baseball vs. MIAA Playoffs Final Round
LOCATION:TBA
END:VEVENT
BEGIN:VEVENT
DTSTART:20260512T160000
SUMMARY:V Boys Baseball vs. MIAA Championship Best of Three
LOCATION:TBA
END:VEVENT
BEGIN:VEVENT
DTSTART:20260514T160000
SUMMARY:V Boys Baseball vs. MIAA Championship Best of Three
LOCATION:TBA
END:VEVENT
BEGIN:VEVENT
DTSTART:20260516T160000
SUMMARY:V Boys Baseball vs. MIAA Championship Best of Three
LOCATION:TBA
END:VEVENT
BEGIN:VEVENT
DTSTART:20260511T160000
SUMMARY:V Boys Baseball vs. MIAA Playoffs
LOCATION:TBA
END:VEVENT
BEGIN:VEVENT
DTSTART:20260306T153000
SUMMARY:V Boys Baseball vs. St. Paul's School
LOCATION:Home
END:VEVENT
BEGIN:VEVENT
DTSTART:20260316T161500
SUMMARY:V Boys Baseball vs. John Carroll School
LOCATION:Away
END:VEVENT
BEGIN:VEVENT
DTSTART:20260401T161500
SUMMARY:V Boys Baseball vs. Gilman School
LOCATION:Away
END:VEVENT
BEGIN:VEVENT
DTSTART:20260302T153000
SUMMARY:V Boys Baseball vs. Severn School
LOCATION:Home
END:VEVENT
BEGIN:VEVENT
DTSTART:20260304T153000
SUMMARY:V Boys Baseball vs. Annapolis Area Christian School
LOCATION:Home
END:VEVENT
BEGIN:VEVENT
DTSTART:20260305T153000
SUMMARY:V Boys Baseball vs. Severn School
LOCATION:Kinder Farm Park
END:VEVENT
END:VCALENDAR