BEGIN:VCALENDAR
METHOD:PUBLISH
X-WR-TIMEZONE:US/Eastern
CALSCALE:GREGORIAN
X-WR-CALNAME:MS Boys Baseball (A)
SUMMARY:MS Boys Baseball (A)
VERSION:2.0
X-APPLE-CALENDAR-COLOR:#EA7125
PRODID:-//McDonogh School//NONSGML DASH//EN
BEGIN:VEVENT
DTSTART:20260408T153000
SUMMARY:MS Boys Baseball (A) vs. St. Paul's School
LOCATION:Home
END:VEVENT
BEGIN:VEVENT
DTSTART:20260422T153000
SUMMARY:MS Boys Baseball (A) vs. Calvert School 
LOCATION:Home
END:VEVENT
BEGIN:VEVENT
DTSTART:20260420T153000
SUMMARY:MS Boys Baseball (A) vs. Loyola Blakefield
LOCATION:Home
END:VEVENT
BEGIN:VEVENT
DTSTART:20260504T153000
SUMMARY:MS Boys Baseball (A) vs. Gilman School
LOCATION:Home
END:VEVENT
BEGIN:VEVENT
DTSTART:20260415T153000
SUMMARY:MS Boys Baseball (A) vs. Chapelgate Christian Academy
LOCATION:Home
END:VEVENT
BEGIN:VEVENT
DTSTART:20260427T153000
SUMMARY:MS Boys Baseball (A) vs. Friends School of Baltimore
LOCATION:Home
END:VEVENT
BEGIN:VEVENT
DTSTART:20260330T153000
SUMMARY:MS Boys Baseball (A) vs. Gilman School
LOCATION:Away
END:VEVENT
BEGIN:VEVENT
DTSTART:20260429T153000
SUMMARY:MS Boys Baseball (A) vs. Boys' Latin School
LOCATION:Away
END:VEVENT
BEGIN:VEVENT
DTSTART:20260413T154500
SUMMARY:MS Boys Baseball (A) vs. Dumbarton Middle School
LOCATION:Away
END:VEVENT
BEGIN:VEVENT
DTSTART:20260423T153000
SUMMARY:MS Boys Baseball (A) vs. Boys' Latin School
LOCATION:Home
END:VEVENT
BEGIN:VEVENT
DTSTART:20260416T160000
SUMMARY:MS Boys Baseball (A) vs. Glenelg Country School
LOCATION:Away
END:VEVENT
BEGIN:VEVENT
DTSTART:20260413T154500
SUMMARY:MS Boys Baseball (A) vs. Dumbarton Middle School
LOCATION:Pine Grove Middle School
END:VEVENT
END:VCALENDAR