BEGIN:VCALENDAR
METHOD:PUBLISH
X-WR-TIMEZONE:US/Eastern
CALSCALE:GREGORIAN
X-WR-CALNAME:JV Boys Baseball
SUMMARY:JV Boys Baseball
VERSION:2.0
X-APPLE-CALENDAR-COLOR:#EA7125
PRODID:-//McDonogh School//NONSGML DASH//EN
BEGIN:VEVENT
DTSTART:20260324T161500
SUMMARY:JV Boys Baseball vs. St. Mary's High School
LOCATION:Home
END:VEVENT
BEGIN:VEVENT
DTSTART:20260407T161500
SUMMARY:JV Boys Baseball vs. Calvert Hall College HS
LOCATION:Home
END:VEVENT
BEGIN:VEVENT
DTSTART:20260421T161500
SUMMARY:JV Boys Baseball vs. Mt. St. Joseph HS
LOCATION:Home
END:VEVENT
BEGIN:VEVENT
DTSTART:20260416T161500
SUMMARY:JV Boys Baseball vs. St. Paul's School
LOCATION:Home
END:VEVENT
BEGIN:VEVENT
DTSTART:20260428T160000
SUMMARY:JV Boys Baseball vs. Archbishop Curley HS
LOCATION:Away
END:VEVENT
BEGIN:VEVENT
DTSTART:20260331T160000
SUMMARY:JV Boys Baseball vs. Archbishop Spalding
LOCATION:Severn Danza Field 
END:VEVENT
END:VCALENDAR